BEGIN:VCALENDAR
VERSION:2.0
PRODID:https://www.monheimer-alb.de/
X-PUBLISHED-TTL:P1D
BEGIN:VEVENT
UID:69ec11663ee3a
DTSTART:20260501T070000Z
SEQUENCE:0
TRANSP:OPAQUE
DTEND:20260501T110000Z
URL:https://www.monheimer-alb.de/veranstaltungen/wochenmarkt_in_monheim-725
 475-12630077/
LOCATION:Innenstadt - Monheim
SUMMARY:Wochenmarkt in Monheim
DTSTAMP:20260425T025710Z
END:VEVENT
END:VCALENDAR