BEGIN:VCALENDAR
VERSION:2.0
PRODID:https://www.monheimer-alb.de/
X-PUBLISHED-TTL:P1D
BEGIN:VEVENT
UID:69ed75554cc51
DTSTART;VALUE=DATE:20260502
SEQUENCE:0
TRANSP:OPAQUE
DTEND;VALUE=DATE:20260502
URL:https://www.monheimer-alb.de/veranstaltungen/ukulele-wanderung-571999-1
 2532013/
LOCATION:B+ Natur- und Umweltbildungszentrum - Tagmersheim
SUMMARY:Ukulele-Wanderung
X-MICROSOFT-CDO-ALLDAYEVENT:TRUE
DTSTAMP:20260426T041549Z
END:VEVENT
END:VCALENDAR