BEGIN:VCALENDAR
VERSION:2.0
PRODID:https://www.monheimer-alb.de/
X-PUBLISHED-TTL:P1D
BEGIN:VEVENT
UID:69e8b4ea99a43
DTSTART:20260524T180000Z
SEQUENCE:0
TRANSP:OPAQUE
DTEND:20260524T180000Z
URL:https://www.monheimer-alb.de/veranstaltungen/pfingstwochenende_des_fc_w
 eilh-808081/
LOCATION:Sportgelände / Sportheim Weilheim - Monheim
SUMMARY:Pfingstwochenende des FC Weilheim-Rehau e.V. - Grümpelturnier
DTSTAMP:20260422T134546Z
END:VEVENT
END:VCALENDAR