BEGIN:VCALENDAR
VERSION:2.0
PRODID:https://www.monheimer-alb.de/
X-PUBLISHED-TTL:P1D
BEGIN:VEVENT
UID:69e8a241447b9
DTSTART:20260522T180000Z
SEQUENCE:0
TRANSP:OPAQUE
DTEND:20260522T180000Z
URL:https://www.monheimer-alb.de/veranstaltungen/pfingstwochenende_des_fc_w
 eilh-807395-12682155/
LOCATION:Sportgelände / Sportheim Weilheim - Monheim
SUMMARY:Pfingstwochenende des FC Weilheim-Rehau e.V. - Schafkopfrennen
DTSTAMP:20260422T122609Z
END:VEVENT
END:VCALENDAR