BEGIN:VCALENDAR
VERSION:2.0
PRODID:https://www.monheimer-alb.de/
X-PUBLISHED-TTL:P1D
BEGIN:VEVENT
UID:69e890272e541
DTSTART:20260506T170000Z
SEQUENCE:0
TRANSP:OPAQUE
DTEND:20260506T170000Z
URL:https://www.monheimer-alb.de/veranstaltungen/monatstreffen_bund_natursc
 hutz-756631-12658247/
LOCATION:Kreuzwirt - Haus der Kultur - Monheim
SUMMARY:Monatstreffen Bund Naturschutz Ortsgruppe Monheimer Alb
DTSTAMP:20260422T110855Z
END:VEVENT
END:VCALENDAR